
BEGIN:VCALENDAR
VERSION:2.0
PRODID:-//42 Lausanne - ECPv6.13.2.1//NONSGML v1.0//EN
CALSCALE:GREGORIAN
METHOD:PUBLISH
X-WR-CALNAME:42 Lausanne
X-ORIGINAL-URL:https://42lausanne.ch
X-WR-CALDESC:Évènements pour 42 Lausanne
REFRESH-INTERVAL;VALUE=DURATION:PT1H
X-Robots-Tag:noindex
X-PUBLISHED-TTL:PT1H
BEGIN:VTIMEZONE
TZID:Europe/Zurich
BEGIN:DAYLIGHT
TZOFFSETFROM:+0100
TZOFFSETTO:+0200
TZNAME:CEST
DTSTART:20260329T010000
END:DAYLIGHT
BEGIN:STANDARD
TZOFFSETFROM:+0200
TZOFFSETTO:+0100
TZNAME:CET
DTSTART:20261025T010000
END:STANDARD
END:VTIMEZONE
BEGIN:VEVENT
DTSTART;TZID=Europe/Zurich:20260423T150000
DTEND;TZID=Europe/Zurich:20260423T200000
DTSTAMP:20260423T015046
CREATED:20260105T114730Z
LAST-MODIFIED:20260223T125740Z
UID:7573-1776956400-1776974400@42lausanne.ch
SUMMARY:Ecotic - Fresque du numérique v3 - Resilio x 42 Lausanne
DESCRIPTION:🌱 Rejoignez nos ateliers pour un numérique plus responsable !\n\n\n\nAttention : Exceptionnellement\, l’atelier aura lieu dans les locaux de 42 Lausanne \n\n\n\nParticipez à une demi-journée d’échanges et d’actions concrètes autour de l’empreinte environnementale du numérique. Cet événement est spécialement conçu pour les PME souhaitant s’engager dans une démarche durable\, accessible et collaborative. \n\n\n\nAu programme :🔹 Conférence inspirante – Témoignage d’une PME locale ayant réduit son impact numérique grâce à des initiatives concrètes.🔹 Atelier interactif – Fresque du numérique\, Un atelier pour comprendre en équipe comment l’IA et les autres technologies numériques impactent l’environnement et comment réduire cet impact.🔹 Réflexion collective – Co-construction de solutions spécifiques\, adaptées aux enjeux des PME.🔹 Networking – Échanges entre pairs et experts pour créer des synergies durables.
URL:https://42lausanne.ch/event/ecotic-atelier-econum-resilio-x-42-lausanne/
LOCATION:42 Lausanne\, Rue de Lausanne 64\, Renens\, 1020\, Suisse
CATEGORIES:Public
ATTACH;FMTTYPE=image/jpeg:https://42lausanne.ch/wp-content/uploads/2026/01/Photo_5-scaled.jpg
END:VEVENT
END:VCALENDAR