
BEGIN:VCALENDAR
VERSION:2.0
PRODID:-//42 Lausanne - ECPv6.13.2.1//NONSGML v1.0//EN
CALSCALE:GREGORIAN
METHOD:PUBLISH
X-ORIGINAL-URL:https://42lausanne.ch
X-WR-CALDESC:Évènements pour 42 Lausanne
REFRESH-INTERVAL;VALUE=DURATION:PT1H
X-Robots-Tag:noindex
X-PUBLISHED-TTL:PT1H
BEGIN:VTIMEZONE
TZID:Europe/Zurich
BEGIN:DAYLIGHT
TZOFFSETFROM:+0100
TZOFFSETTO:+0200
TZNAME:CEST
DTSTART:20210328T010000
END:DAYLIGHT
BEGIN:STANDARD
TZOFFSETFROM:+0200
TZOFFSETTO:+0100
TZNAME:CET
DTSTART:20211031T010000
END:STANDARD
END:VTIMEZONE
BEGIN:VEVENT
DTSTART;TZID=Europe/Zurich:20210204T210000
DTEND;TZID=Europe/Zurich:20210204T230000
DTSTAMP:20260426T061245
CREATED:20210202T102125Z
LAST-MODIFIED:20210206T091642Z
UID:1301-1612472400-1612479600@42lausanne.ch
SUMMARY:Soirée d'information – spécial femmes
DESCRIPTION:C’est une soirée réservée aux femmes qui veulent découvrir à quel point nous avons besoin d’elles dans les métiers du numérique.Les femmes ont un rôle fondamental dans le numérique\, mais subissent une discrimination qui limite à une grande moitié de l’humanité l’accès à des métiers passionnants\, créatifs et qui ont un impact concret sur le monde.Cette soirée vous est réservée\, afin que vous puissiez découvrir notre école\, où la diversité\, l’inclusion\, la créativité et la collaboration sont des valeurs clés.Nous avons besoin de vous\, le monde a besoin de vos compétences !
URL:https://42lausanne.ch/event/soiree-dinformation-special-femmes/
LOCATION:42 Lausanne\, Rue de Lausanne 64\, Renens\, 1020\, Suisse
CATEGORIES:Soirée d'informations
END:VEVENT
BEGIN:VEVENT
DTSTART;TZID=Europe/Zurich:20210212T210000
DTEND;TZID=Europe/Zurich:20210212T230000
DTSTAMP:20260426T061245
CREATED:20210206T091309Z
LAST-MODIFIED:20210206T092449Z
UID:1475-1613163600-1613170800@42lausanne.ch
SUMMARY:Soirée d'information (COMPLET)
DESCRIPTION:Viens découvrir l’école 42 Lausanne et sa pédagogie particulière. Tu pourras poser toutes tes questions pour comprendre comment ça fonctionne et surtout si tu es fait.e pour notre école. Les soirées d’information ont lieu régulièrement durant l’année\, si tu ne peux pas ce soir là\, ce n’est donc pas grave\, inscris-toi à la prochaine. \n\n\n\nPour l’instant\, les soirées d’informations ont lieu en ligne\, avec Zoom. Il faut t’inscrire avec le lien ci-dessous. \n\n\n\nEt on apprécie que tu viennes lorsque tu es inscrit.e.
URL:https://42lausanne.ch/event/soiree-information-12-fevrier/
CATEGORIES:Soirée d'informations
END:VEVENT
BEGIN:VEVENT
DTSTART;TZID=Europe/Zurich:20210222T210000
DTEND;TZID=Europe/Zurich:20210222T230000
DTSTAMP:20260426T061245
CREATED:20210206T092057Z
LAST-MODIFIED:20210206T092423Z
UID:1482-1614027600-1614034800@42lausanne.ch
SUMMARY:Soirée d'information (COMPLET)
DESCRIPTION:Viens découvrir l’école 42 Lausanne et sa pédagogie particulière. Tu pourras poser toutes tes questions pour comprendre comment ça fonctionne et surtout si tu es fait.e pour notre école. Les soirées d’information ont lieu régulièrement durant l’année\, si tu ne peux pas ce soir là\, ce n’est donc pas grave\, inscris-toi à la prochaine. \n\n\n\nPour l’instant\, les soirées d’informations ont lieu en ligne\, avec Zoom. Il faut t’inscrire avec le lien ci-dessous. \n\n\n\nEt on apprécie que tu viennes lorsque tu es inscrit.e.
URL:https://42lausanne.ch/event/soiree-information-22-fevrier/
CATEGORIES:Soirée d'informations
ORGANIZER;CN="42 Lausanne":MAILTO:events@42lausanne.ch
END:VEVENT
BEGIN:VEVENT
DTSTART;TZID=Europe/Zurich:20210224T210000
DTEND;TZID=Europe/Zurich:20210224T230000
DTSTAMP:20260426T061245
CREATED:20210206T092326Z
LAST-MODIFIED:20210218T115801Z
UID:1486-1614200400-1614207600@42lausanne.ch
SUMMARY:Soirée d'information (COMPLET)
DESCRIPTION:Viens découvrir l’école 42 Lausanne et sa pédagogie particulière. Tu pourras poser toutes tes questions pour comprendre comment ça fonctionne et surtout si tu es fait.e pour notre école. Les soirées d’information ont lieu régulièrement durant l’année\, si tu ne peux pas ce soir là\, ce n’est donc pas grave\, inscris-toi à la prochaine. \n\n\n\nPour l’instant\, les soirées d’informations ont lieu en ligne\, avec Zoom. Il faut t’inscrire avec le lien ci-dessous. \n\n\n\nEt on apprécie que tu viennes lorsque tu es inscrit.e.
URL:https://42lausanne.ch/event/soiree-information-24-fevrier/
CATEGORIES:Soirée d'informations
ORGANIZER;CN="42 Lausanne":MAILTO:events@42lausanne.ch
END:VEVENT
END:VCALENDAR